BEGIN:VCALENDAR
VERSION:2.0
PRODID:-//The Healing Consciousness Foundation - ECPv6.15.20//NONSGML v1.0//EN
CALSCALE:GREGORIAN
METHOD:PUBLISH
X-WR-CALNAME:The Healing Consciousness Foundation
X-ORIGINAL-URL:http://hcf444.org
X-WR-CALDESC:Events for The Healing Consciousness Foundation
REFRESH-INTERVAL;VALUE=DURATION:PT1H
X-Robots-Tag:noindex
X-PUBLISHED-TTL:PT1H
BEGIN:VTIMEZONE
TZID:America/New_York
BEGIN:DAYLIGHT
TZOFFSETFROM:-0500
TZOFFSETTO:-0400
TZNAME:EDT
DTSTART:20230312T070000
END:DAYLIGHT
BEGIN:STANDARD
TZOFFSETFROM:-0400
TZOFFSETTO:-0500
TZNAME:EST
DTSTART:20231105T060000
END:STANDARD
BEGIN:DAYLIGHT
TZOFFSETFROM:-0500
TZOFFSETTO:-0400
TZNAME:EDT
DTSTART:20240310T070000
END:DAYLIGHT
BEGIN:STANDARD
TZOFFSETFROM:-0400
TZOFFSETTO:-0500
TZNAME:EST
DTSTART:20241103T060000
END:STANDARD
BEGIN:DAYLIGHT
TZOFFSETFROM:-0500
TZOFFSETTO:-0400
TZNAME:EDT
DTSTART:20250309T070000
END:DAYLIGHT
BEGIN:STANDARD
TZOFFSETFROM:-0400
TZOFFSETTO:-0500
TZNAME:EST
DTSTART:20251102T060000
END:STANDARD
END:VTIMEZONE
BEGIN:VEVENT
DTSTART;TZID=America/New_York:20241219T173000
DTEND;TZID=America/New_York:20241219T183000
DTSTAMP:20260421T094319
CREATED:20231102T211328Z
LAST-MODIFIED:20240329T154423Z
UID:10003238-1734629400-1734633000@hcf444.org
SUMMARY:PA Thursday CHAIR YOGA
DESCRIPTION:IN PERSON EVENT – Thursdays 5:30 – 6:30 PM \nWith Instructor Beth Matlock\n45 Second Street Pike Southampton PA 18966
URL:http://hcf444.org/event/pa-thursday-yoga/2024-12-19/
LOCATION:45 Second Street Pike Southampton PA 18966\, 45 Second Street Pike\, Southampton\, PA\, 18966
CATEGORIES:Bucks County Events
END:VEVENT
BEGIN:VEVENT
DTSTART;TZID=America/New_York:20241219T190000
DTEND;TZID=America/New_York:20241219T210000
DTSTAMP:20260421T094319
CREATED:20230725T021747Z
LAST-MODIFIED:20260413T140544Z
UID:10000924-1734634800-1734642000@hcf444.org
SUMMARY:PA Young Breast Friends ( Bucks County) - NEW LOCATION
DESCRIPTION:The Young Breast Friends is a support group that offers strength\, encouragement\, and compassion to those who were diagnosis with breast cancer when they were under the age of 40. \nThis dynamic sisterhood of support is currently facilitated by Jenn Marquette.   This group has monthly meetings\, the BCBF Facebook group\, and many shared Breast Friends events that allow members to connect\, bond\, and heal. \nWhat brings The Young Breast Friends together is a common diagnosis of breast cancer. But what keeps them connected is a genuine willingness to support and encourage one another through their diagnoses\, through their treatments\, and to their survivorship. And for Breast Friends it is not enough to just survive this diagnosis. Breast Friends share their journeys with the intention of seeing all Breast Friends become THRIVERS\, reclaiming lives of great health and healing. No woman given the diagnosis of breast cancer will ever have to take her journey alone as long as she has her Breast Friends. \nDavisville Church\n325 Street Rd\nSouthampton\, PA 18966
URL:http://hcf444.org/event/young-breast-friends-bucks-county/2024-12-19/
LOCATION:Davisville Church\, 325 Street Road\, Southampton\, PA\, 18966\, United States
END:VEVENT
END:VCALENDAR