BEGIN:VCALENDAR
VERSION:2.0
PRODID:-//The Healing Consciousness Foundation - ECPv6.15.20//NONSGML v1.0//EN
CALSCALE:GREGORIAN
METHOD:PUBLISH
X-WR-CALNAME:The Healing Consciousness Foundation
X-ORIGINAL-URL:http://hcf444.org
X-WR-CALDESC:Events for The Healing Consciousness Foundation
REFRESH-INTERVAL;VALUE=DURATION:PT1H
X-Robots-Tag:noindex
X-PUBLISHED-TTL:PT1H
BEGIN:VTIMEZONE
TZID:America/New_York
BEGIN:DAYLIGHT
TZOFFSETFROM:-0500
TZOFFSETTO:-0400
TZNAME:EDT
DTSTART:20220313T070000
END:DAYLIGHT
BEGIN:STANDARD
TZOFFSETFROM:-0400
TZOFFSETTO:-0500
TZNAME:EST
DTSTART:20221106T060000
END:STANDARD
BEGIN:DAYLIGHT
TZOFFSETFROM:-0500
TZOFFSETTO:-0400
TZNAME:EDT
DTSTART:20230312T070000
END:DAYLIGHT
BEGIN:STANDARD
TZOFFSETFROM:-0400
TZOFFSETTO:-0500
TZNAME:EST
DTSTART:20231105T060000
END:STANDARD
BEGIN:DAYLIGHT
TZOFFSETFROM:-0500
TZOFFSETTO:-0400
TZNAME:EDT
DTSTART:20240310T070000
END:DAYLIGHT
BEGIN:STANDARD
TZOFFSETFROM:-0400
TZOFFSETTO:-0500
TZNAME:EST
DTSTART:20241103T060000
END:STANDARD
END:VTIMEZONE
BEGIN:VEVENT
DTSTART;TZID=America/New_York:20230719T180000
DTEND;TZID=America/New_York:20230719T193000
DTSTAMP:20260422T051140
CREATED:20230725T030333Z
LAST-MODIFIED:20230725T030333Z
UID:10001088-1689789600-1689795000@hcf444.org
SUMMARY:V MetaFriends Meeting
DESCRIPTION:“Metafriends” is an exceptional support group for those women whose cancer is Stage IV\, or metastatic. This intimate group is there to address the special needs of these women who have issues and concerns related to metastatic cancer that are not typically addressed in other breast cancer support groups. The women of this group have a deep understanding of the concerns of those with advanced cancer and they freely help each other through the emotional\, spiritual\, and logistical roller coaster of this disease. The women who comprise this group represent a range of levels of this illness\, from those who are metastatic with NED (No Evidence of Disease)\, to those who are currently grappling with changing treatment regimens\, to those who are making use of clinical trials and those who have reached the point of receiving no further treatment. \nThe group is facilitated by Susan Apollon\, a licensed Psychologist who specializes specializing in healing\, trauma\, loss\, and working with women diagnosed with cancer. \nFor information email admin@hcf444.org
URL:http://hcf444.org/event/v-metafriends-meeting/
LOCATION:Virtual\, Zoom Link Shared by organizer
ORGANIZER;CN="Susan Apollon":MAILTO:admin@hcf444.org
END:VEVENT
END:VCALENDAR