BEGIN:VCALENDAR
VERSION:2.0
PRODID:-//The Healing Consciousness Foundation - ECPv6.15.20//NONSGML v1.0//EN
CALSCALE:GREGORIAN
METHOD:PUBLISH
X-ORIGINAL-URL:http://hcf444.org
X-WR-CALDESC:Events for The Healing Consciousness Foundation
REFRESH-INTERVAL;VALUE=DURATION:PT1H
X-Robots-Tag:noindex
X-PUBLISHED-TTL:PT1H
BEGIN:VTIMEZONE
TZID:America/New_York
BEGIN:DAYLIGHT
TZOFFSETFROM:-0500
TZOFFSETTO:-0400
TZNAME:EDT
DTSTART:20220313T070000
END:DAYLIGHT
BEGIN:STANDARD
TZOFFSETFROM:-0400
TZOFFSETTO:-0500
TZNAME:EST
DTSTART:20221106T060000
END:STANDARD
BEGIN:DAYLIGHT
TZOFFSETFROM:-0500
TZOFFSETTO:-0400
TZNAME:EDT
DTSTART:20230312T070000
END:DAYLIGHT
BEGIN:STANDARD
TZOFFSETFROM:-0400
TZOFFSETTO:-0500
TZNAME:EST
DTSTART:20231105T060000
END:STANDARD
BEGIN:DAYLIGHT
TZOFFSETFROM:-0500
TZOFFSETTO:-0400
TZNAME:EDT
DTSTART:20240310T070000
END:DAYLIGHT
BEGIN:STANDARD
TZOFFSETFROM:-0400
TZOFFSETTO:-0500
TZNAME:EST
DTSTART:20241103T060000
END:STANDARD
END:VTIMEZONE
BEGIN:VEVENT
DTSTART;TZID=America/New_York:20231028T130000
DTEND;TZID=America/New_York:20231028T200000
DTSTAMP:20260421T214944
CREATED:20231021T202845Z
LAST-MODIFIED:20231021T202845Z
UID:10002638-1698498000-1698523200@hcf444.org
SUMMARY:Illuminate the Journey to Healing Fundraiser and Glow Party
DESCRIPTION:Join Wellness Living for Illuminate the Journey to Healing Fundraiser and Glow Party\, October 28th at Nourishing Storm Studio. Enjoy all or part of a full afternoon and evening filled with opportunities to dance\, practice yoga\, experience reiki or a sound bath\, get a massage\, support local artisans\, and do a little artwork of your own. The proceeds for the day will go towards The Healing Consciousness Foundation dedicated to providing cancer patients with healing services not covered by insurance. \nThe afternoon will include a dance performance followed by a Spooktacular Dance Party for the kids and various healing arts and yoga classes throughout the day\, ending with a Glow Party in the evening. There will be raffle tickets  as well as rock and pumpkin painting. Refreshments are available for purchase at swiig café (right next door). \nBring family and friends to share in this celebration of wellness\, generosity\, and community spirit. You can make a donation by signing up for the event\, attending one of our classes below or through raffles throughout the day. \nSCHEDULE OF EVENTS: (sign up for one or all classes and choose your donation at registration) \nIn Stormy/Studio 1: \n\n\n\n1-1:30pm- Opening Ceremony + Dance performance by Stephanie\n\nJoin us to kick off our Illuminate Day of events with an opening ceremony + dance performance by Stephanie Vasta\, breast cancer survivor and NS dance teacher. \n\n1:45-2:15pm- Gentle Yoga with Michelle\n\nRelax and release in a gentle yoga class with breast cancer survivor and NS Storm Life Yoga Teacher Michelle Burke. All levels welcome. \n\n2:30-3:30pm- Kids “Spooktacular Dance Party” with Stephanie\n\nCalling all the tiny monsters! If you’re spooky and you know it\, pay us a trick or treat visit during this year’s Halloween Stroll. We’ll be hosting a spooktacular dance party just for kids where you can show off your costume and your best dance moves! Get those skeleton bones a shakin’! \n\n3:45-4:30pm- Reiki Share– Nikki & Melissa\n\nExperience the healing energy of Reiki in a group Reiki share where you can both give and receive Reiki in a group setting. All levels welcome. \n\n4:45-5:30pm- Mindfulness Meditation– Melissa & Jon\n\nCome experience and discover a variety of mindfulness + meditation methods that you can add into your daily life in a safe and supported environment. \n\n5:45-6:30pm- Restorative Yoga– Mindy\n\nImmerse yourself in a restful\, restorative practice with postures designed to realign mind\, body and spirit. Students can expect to be guided to relax into the poses\, fully supported by props\, to feel renewed and restored. \n\n6:45-7:30pm-Yoga Nidra + Sound Bath– Mindy\n\nEnter a state of non-doing and total relaxation in a candlelit Yoga Nidra led by Mindy. The hour-long “yogic sleeping” session will be followed by a healing sound bath to leave you feeling rested and nourished from head to toe! \n\n7:45pm- Glow Dance Party begins with Stephanie\n\nLet’s end our night illuminating the studio together with a dance party led by Stephanie Vasta\, breast cancer survivor and NS dance teacher.  (glow paint will be provided\, optional but fun!)\n\nAt swiig Cafe (1-8pm): \n\nRaffle Baskets by local businesses\nGlow Bags- Write a message of love and support\nKids Crafts\n\nIn Stormy/Studio 2 (1-7pm): \n\n– 15 minute Massages with Coleen by the Chakra with Coleen Slaymaker. To book: email Kristin\n– 15 minute Astrology Readings with Samantha Ryan. To book: email Kristin \n \n\nOrder your tee to support the cause\, now til 10/9. Tees can be picked up at the event! \nContact Michelle if you want to donate an item for our fundraiser raffle (closes 10/21)
URL:http://hcf444.org/event/illuminate-the-journey-to-healing-fundraiser-and-glow-party/
LOCATION:Nourishing Storm Yoga Studio\, 124 N York Rd\, Hatboro\, PA\, 19040\, United States
END:VEVENT
END:VCALENDAR